BEGIN:VCALENDAR
VERSION:2.0
PRODID:-//Bay Mills - ECPv6.15.20//NONSGML v1.0//EN
CALSCALE:GREGORIAN
METHOD:PUBLISH
X-WR-CALNAME:Bay Mills
X-ORIGINAL-URL:https://bmcso.org
X-WR-CALDESC:Events for Bay Mills
REFRESH-INTERVAL;VALUE=DURATION:PT1H
X-Robots-Tag:noindex
X-PUBLISHED-TTL:PT1H
BEGIN:VTIMEZONE
TZID:America/Detroit
BEGIN:DAYLIGHT
TZOFFSETFROM:-0500
TZOFFSETTO:-0400
TZNAME:EDT
DTSTART:20220313T070000
END:DAYLIGHT
BEGIN:STANDARD
TZOFFSETFROM:-0400
TZOFFSETTO:-0500
TZNAME:EST
DTSTART:20221106T060000
END:STANDARD
BEGIN:DAYLIGHT
TZOFFSETFROM:-0500
TZOFFSETTO:-0400
TZNAME:EDT
DTSTART:20230312T070000
END:DAYLIGHT
BEGIN:STANDARD
TZOFFSETFROM:-0400
TZOFFSETTO:-0500
TZNAME:EST
DTSTART:20231105T060000
END:STANDARD
BEGIN:DAYLIGHT
TZOFFSETFROM:-0500
TZOFFSETTO:-0400
TZNAME:EDT
DTSTART:20240310T070000
END:DAYLIGHT
BEGIN:STANDARD
TZOFFSETFROM:-0400
TZOFFSETTO:-0500
TZNAME:EST
DTSTART:20241103T060000
END:STANDARD
END:VTIMEZONE
BEGIN:VEVENT
DTSTART;TZID=America/Detroit:20230417T180000
DTEND;TZID=America/Detroit:20230417T183000
DTSTAMP:20260423T054642
CREATED:20230808T182117Z
LAST-MODIFIED:20230825T161747Z
UID:909-1681754400-1681756200@bmcso.org
SUMMARY:Live Webinar Training - Question and Answer Zoom Session Dedicated to Topics Identified Above.
DESCRIPTION:This session belongs to participants!  This year\, we are reserving our final webinar\, solely\, to answer questions that board members bring to us based on the “how to’s” heard during the series.
URL:https://bmcso.org/event/live-webinar-training-whats-new-in-2022/
END:VEVENT
BEGIN:VEVENT
DTSTART;TZID=America/Detroit:20230227T180000
DTEND;TZID=America/Detroit:20230227T183000
DTSTAMP:20260423T054642
CREATED:20230825T170746Z
LAST-MODIFIED:20230825T161550Z
UID:949-1677520800-1677522600@bmcso.org
SUMMARY:Live Webinar Training - HOW TO... Ensure the Safety and Welfare of Students.
DESCRIPTION:Whether a board member\, school leader\, principal\, management company or authorizer\, student safety should be a top priority.  Boards\, in particular\, have been entrusted to protect the students served in a variety of ways –  safety and welfare being chief among those ways.  This session will offer “how to” ensure student safety and welfare by sharing best practices in safety measures\, bringing board policy on the topic of safety to the forefront and sharing current news and events that may inform board decision-making relative to this critical topic. \n \n\n\n\n  \n 
URL:https://bmcso.org/event/teacher-retention-recruitment-live-webinar-training-on-october-19-2022-at-600-p-m/
ORGANIZER;CN="BMCC":MAILTO:ptadgerson@bmcc.edu
END:VEVENT
END:VCALENDAR