BEGIN:VCALENDAR
VERSION:2.0
PRODID:-//Bay Mills - ECPv6.15.20//NONSGML v1.0//EN
CALSCALE:GREGORIAN
METHOD:PUBLISH
X-ORIGINAL-URL:https://bmcso.org
X-WR-CALDESC:Events for Bay Mills
REFRESH-INTERVAL;VALUE=DURATION:PT1H
X-Robots-Tag:noindex
X-PUBLISHED-TTL:PT1H
BEGIN:VTIMEZONE
TZID:America/Detroit
BEGIN:DAYLIGHT
TZOFFSETFROM:-0500
TZOFFSETTO:-0400
TZNAME:EDT
DTSTART:20230312T070000
END:DAYLIGHT
BEGIN:STANDARD
TZOFFSETFROM:-0400
TZOFFSETTO:-0500
TZNAME:EST
DTSTART:20231105T060000
END:STANDARD
BEGIN:DAYLIGHT
TZOFFSETFROM:-0500
TZOFFSETTO:-0400
TZNAME:EDT
DTSTART:20240310T070000
END:DAYLIGHT
BEGIN:STANDARD
TZOFFSETFROM:-0400
TZOFFSETTO:-0500
TZNAME:EST
DTSTART:20241103T060000
END:STANDARD
BEGIN:DAYLIGHT
TZOFFSETFROM:-0500
TZOFFSETTO:-0400
TZNAME:EDT
DTSTART:20250309T070000
END:DAYLIGHT
BEGIN:STANDARD
TZOFFSETFROM:-0400
TZOFFSETTO:-0500
TZNAME:EST
DTSTART:20251102T060000
END:STANDARD
BEGIN:DAYLIGHT
TZOFFSETFROM:-0500
TZOFFSETTO:-0400
TZNAME:EDT
DTSTART:20260308T070000
END:DAYLIGHT
BEGIN:STANDARD
TZOFFSETFROM:-0400
TZOFFSETTO:-0500
TZNAME:EST
DTSTART:20261101T060000
END:STANDARD
BEGIN:DAYLIGHT
TZOFFSETFROM:-0500
TZOFFSETTO:-0400
TZNAME:EDT
DTSTART:20270314T070000
END:DAYLIGHT
BEGIN:STANDARD
TZOFFSETFROM:-0400
TZOFFSETTO:-0500
TZNAME:EST
DTSTART:20271107T060000
END:STANDARD
END:VTIMEZONE
BEGIN:VEVENT
DTSTART;TZID=America/Detroit:20240116T180000
DTEND;TZID=America/Detroit:20240116T183000
DTSTAMP:20260423T040716
CREATED:20230825T161357Z
LAST-MODIFIED:20230825T162643Z
UID:911-1705428000-1705429800@bmcso.org
SUMMARY:Live Webinar Training - HOW TO... Protect Against Charter School Closure.
DESCRIPTION:Charter school closures are a reality of the accountability exchange under which the board and authorizer operate.  When your board executed its charter contract with its authorizer\, the board promised to perform to the standards and expectations outlined in that critical document.  If the school over which boards govern does not perform or is not performing\, with fidelity\, the school runs the risk of closing.  This session will focus on “how to” avoid charter school closure by providing helpful tips on assessing the overall health and condition of the school over which boards govern.
URL:https://bmcso.org/event/live-webinar-training-whats-to-be-in-2023/
END:VEVENT
BEGIN:VEVENT
DTSTART;TZID=America/Detroit:20260427T113000
DTEND;TZID=America/Detroit:20260427T200000
DTSTAMP:20260423T040716
CREATED:20260422T144014Z
LAST-MODIFIED:20260422T144014Z
UID:1571-1777289400-1777320000@bmcso.org
SUMMARY:BMCSO School Leader Professional Development and Board Member Appreciation
DESCRIPTION:School Leader Professional Development Agenda and Board Member Appreciation \nKellogg Hotel & Conference Center 219 S. Harrison Road\, East Lansing\, MI \nMonday\, April 27\, 2026
URL:https://bmcso.org/event/bmcso-school-leader-professional-development-and-board-member-appreciation/
ORGANIZER;CN="BMCC":MAILTO:ptadgerson@bmcc.edu
END:VEVENT
END:VCALENDAR